BEGIN:VCALENDAR
VERSION:2.0
PRODID:-//CTL Academy - ECPv6.15.20//NONSGML v1.0//EN
CALSCALE:GREGORIAN
METHOD:PUBLISH
X-ORIGINAL-URL:https://ctlacademy.org
X-WR-CALDESC:Events for CTL Academy
REFRESH-INTERVAL;VALUE=DURATION:PT1H
X-Robots-Tag:noindex
X-PUBLISHED-TTL:PT1H
BEGIN:VTIMEZONE
TZID:Africa/Lagos
BEGIN:STANDARD
TZOFFSETFROM:+0100
TZOFFSETTO:+0100
TZNAME:WAT
DTSTART:20250101T000000
END:STANDARD
END:VTIMEZONE
BEGIN:VEVENT
DTSTART;VALUE=DATE:20260527
DTEND;VALUE=DATE:20260528
DTSTAMP:20260420T072714
CREATED:20250723T105508Z
LAST-MODIFIED:20250723T113217Z
UID:12630-1779840000-1779926399@ctlacademy.org
SUMMARY:Children’s Day School Celebration
DESCRIPTION:
URL:https://ctlacademy.org/event/childrens-day-school-celebration/
CATEGORIES:may-2026,school-event
END:VEVENT
END:VCALENDAR