BEGIN:VCALENDAR
VERSION:2.0
PRODID:-//CTL Academy - ECPv6.15.20//NONSGML v1.0//EN
CALSCALE:GREGORIAN
METHOD:PUBLISH
X-ORIGINAL-URL:https://ctlacademy.org
X-WR-CALDESC:Events for CTL Academy
REFRESH-INTERVAL;VALUE=DURATION:PT1H
X-Robots-Tag:noindex
X-PUBLISHED-TTL:PT1H
BEGIN:VTIMEZONE
TZID:Africa/Lagos
BEGIN:STANDARD
TZOFFSETFROM:+0100
TZOFFSETTO:+0100
TZNAME:WAT
DTSTART:20250101T000000
END:STANDARD
END:VTIMEZONE
BEGIN:VEVENT
DTSTART;VALUE=DATE:20260505
DTEND;VALUE=DATE:20260517
DTSTAMP:20260420T092238
CREATED:20250723T105348Z
LAST-MODIFIED:20250906T144939Z
UID:12626-1777939200-1778975999@ctlacademy.org
SUMMARY:AP Exams
DESCRIPTION:
URL:https://ctlacademy.org/event/ap-exams/
CATEGORIES:may-2026
END:VEVENT
BEGIN:VEVENT
DTSTART;VALUE=DATE:20260516
DTEND;VALUE=DATE:20260517
DTSTAMP:20260420T092238
CREATED:20250906T145057Z
LAST-MODIFIED:20250906T145057Z
UID:12700-1778889600-1778975999@ctlacademy.org
SUMMARY:HS Prom
DESCRIPTION:
URL:https://ctlacademy.org/event/hs-prom/
CATEGORIES:may-2026
END:VEVENT
END:VCALENDAR