BEGIN:VCALENDAR
VERSION:2.0
PRODID:-//CTL Academy - ECPv6.15.20//NONSGML v1.0//EN
CALSCALE:GREGORIAN
METHOD:PUBLISH
X-ORIGINAL-URL:https://ctlacademy.org
X-WR-CALDESC:Events for CTL Academy
REFRESH-INTERVAL;VALUE=DURATION:PT1H
X-Robots-Tag:noindex
X-PUBLISHED-TTL:PT1H
BEGIN:VTIMEZONE
TZID:Africa/Lagos
BEGIN:STANDARD
TZOFFSETFROM:+0100
TZOFFSETTO:+0100
TZNAME:WAT
DTSTART:20250101T000000
END:STANDARD
END:VTIMEZONE
BEGIN:VEVENT
DTSTART;VALUE=DATE:20260501
DTEND;VALUE=DATE:20260502
DTSTAMP:20260420T073311
CREATED:20250723T105148Z
LAST-MODIFIED:20250723T113231Z
UID:12622-1777593600-1777679999@ctlacademy.org
SUMMARY:Workers’ Day (No School)
DESCRIPTION:
URL:https://ctlacademy.org/event/workers-day-no-school/
CATEGORIES:may-2026,public-holiday
END:VEVENT
BEGIN:VEVENT
DTSTART;VALUE=DATE:20260504
DTEND;VALUE=DATE:20260509
DTSTAMP:20260420T073311
CREATED:20250723T105258Z
LAST-MODIFIED:20250906T144729Z
UID:12624-1777852800-1778284799@ctlacademy.org
SUMMARY:Teacher Appreciation Week
DESCRIPTION:
URL:https://ctlacademy.org/event/teacher-appreciation-week/
CATEGORIES:may-2026
END:VEVENT
BEGIN:VEVENT
DTSTART;VALUE=DATE:20260505
DTEND;VALUE=DATE:20260517
DTSTAMP:20260420T073311
CREATED:20250723T105348Z
LAST-MODIFIED:20250906T144939Z
UID:12626-1777939200-1778975999@ctlacademy.org
SUMMARY:AP Exams
DESCRIPTION:
URL:https://ctlacademy.org/event/ap-exams/
CATEGORIES:may-2026
END:VEVENT
BEGIN:VEVENT
DTSTART;VALUE=DATE:20260516
DTEND;VALUE=DATE:20260517
DTSTAMP:20260420T073311
CREATED:20250906T145057Z
LAST-MODIFIED:20250906T145057Z
UID:12700-1778889600-1778975999@ctlacademy.org
SUMMARY:HS Prom
DESCRIPTION:
URL:https://ctlacademy.org/event/hs-prom/
CATEGORIES:may-2026
END:VEVENT
BEGIN:VEVENT
DTSTART;VALUE=DATE:20260518
DTEND;VALUE=DATE:20260523
DTSTAMP:20260420T073311
CREATED:20250906T145140Z
LAST-MODIFIED:20250906T145140Z
UID:12702-1779062400-1779494399@ctlacademy.org
SUMMARY:MAP Testing
DESCRIPTION:
URL:https://ctlacademy.org/event/map-testing-2/
CATEGORIES:may-2026
END:VEVENT
BEGIN:VEVENT
DTSTART;VALUE=DATE:20260526
DTEND;VALUE=DATE:20260531
DTSTAMP:20260420T073311
CREATED:20250723T105426Z
LAST-MODIFIED:20250723T105426Z
UID:12628-1779753600-1780185599@ctlacademy.org
SUMMARY:Exam Week
DESCRIPTION:
URL:https://ctlacademy.org/event/exam-week/
CATEGORIES:may-2026
END:VEVENT
BEGIN:VEVENT
DTSTART;VALUE=DATE:20260527
DTEND;VALUE=DATE:20260528
DTSTAMP:20260420T073311
CREATED:20250723T105508Z
LAST-MODIFIED:20250723T113217Z
UID:12630-1779840000-1779926399@ctlacademy.org
SUMMARY:Children’s Day School Celebration
DESCRIPTION:
URL:https://ctlacademy.org/event/childrens-day-school-celebration/
CATEGORIES:may-2026,school-event
END:VEVENT
BEGIN:VEVENT
DTSTART;VALUE=DATE:20260528
DTEND;VALUE=DATE:20260530
DTSTAMP:20260420T073311
CREATED:20250906T145306Z
LAST-MODIFIED:20250906T145321Z
UID:12704-1779926400-1780099199@ctlacademy.org
SUMMARY:Eid Holiday (Tentative)
DESCRIPTION:
URL:https://ctlacademy.org/event/eid-holiday-tentative/
CATEGORIES:may-2026
END:VEVENT
END:VCALENDAR